BEGIN:VCALENDAR
VERSION:2.0
CALSCALE:GREGORIAN
PRODID:adamgibbons/ics
METHOD:PUBLISH
X-PUBLISHED-TTL:PT1H
BEGIN:VEVENT
UID:301@eventos.lhc.net.br
SUMMARY:MiniDebConf Campinas 2026
DTSTAMP:20260422T144442Z
DTSTART:20260423T120000Z
DTEND:20260425T220000Z
URL:https://eventos.lhc.net.br/event/minidebconf-campinas-2026
LOCATION:IC - UNICAMP - R. Saturnino de Brito\, 573 - Cidade Universitária\
	, Campinas - SP - 13083-889 - BR
STATUS:CONFIRMED
CATEGORIES:debian
END:VEVENT
BEGIN:VEVENT
UID:314@eventos.lhc.net.br
SUMMARY:DevOpsDays Campinas 2026
DTSTAMP:20260422T144442Z
DTSTART:20260919T110000Z
DTEND:20260919T200000Z
URL:https://eventos.lhc.net.br/event/devopsdays-campinas-2026
LOCATION:IC - UNICAMP - R. Saturnino de Brito\, 573 - Cidade Universitária\
	, Campinas - SP - 13083-889 - BR
STATUS:CONFIRMED
CATEGORIES:devopsdays,devopsdaysca
END:VEVENT
END:VCALENDAR
