BEGIN:VCALENDAR
VERSION:2.0
CALSCALE:GREGORIAN
PRODID:adamgibbons/ics
METHOD:PUBLISH
X-PUBLISHED-TTL:PT1H
BEGIN:VEVENT
UID:244@eventos.lhc.net.br
SUMMARY:Fundação do Laboratório Hacker de Campinas
DTSTAMP:20260422T231636Z
DTSTART:20261012T030000Z
DTEND:20261012T030000Z
URL:https://eventos.lhc.net.br/event/fundacao-do-laboratorio-hacker-de-camp
	inas-2
GEO:-22.9178033;-47.0524533
LOCATION:Laboratório Hacker de Campinas - Rua Araribóia\, 121 Ponte Preta\,
	 Campinas - SP 13041-350
STATUS:CONFIRMED
CATEGORIES:aniversário,lhc
END:VEVENT
END:VCALENDAR
