BEGIN:VCALENDAR
VERSION:2.0
CALSCALE:GREGORIAN
PRODID:adamgibbons/ics
METHOD:PUBLISH
X-PUBLISHED-TTL:PT1H
BEGIN:VEVENT
UID:318@eventos.lhc.net.br
SUMMARY:Reboot no projeto LHC/Infra
DTSTAMP:20260422T144820Z
DTSTART:20260427T220000Z
DTEND:20260427T230000Z
URL:https://eventos.lhc.net.br/event/reboot-no-projeto-lhcinfra
LOCATION:online - https://lhc.net.br
STATUS:CONFIRMED
CATEGORIES:argocd,gitops,lhcinfra,reboot
END:VEVENT
END:VCALENDAR
